BEGIN:VCALENDAR
VERSION:2.0
PRODID:-//wp-events-plugin.com//7.2.3.1//EN
TZID:Europe/Zurich
X-WR-TIMEZONE:Europe/Zurich
BEGIN:VEVENT
UID:105@stadtorchester-solothurn.ch
DTSTART;TZID=Europe/Zurich:20250322T140000
DTEND;TZID=Europe/Zurich:20250322T140000
DTSTAMP:20250304T155349Z
URL:https://stadtorchester-solothurn.ch/events/kinderkonzert-haensel-und-g
 retel-2/
SUMMARY:Kinderkonzert: Hänsel und Gretel
DESCRIPTION:Kinderkonzert: Engelbert Humperdinck Auszüge aus der Oper Hän
 sel und Gretel mit Stephanie Bühlmann Sopran\, Carine Séchaye Mezzosopra
 n\, Brigitte Hirsig Erzählerin und Schülerinnen der Ballettschule Fabian
 a\;\nLeitung: Harald Siegel
ATTACH;FMTTYPE=image/jpeg:https://stadtorchester-solothurn.ch/wp-content/u
 ploads/2024/11/HaenselundGretel.png
CATEGORIES:Kinderkonzert
LOCATION:Grosser Konzertsaal Solothurn\, Untere Steingrubenstrasse 1\, Solo
 thurn\, Schweiz\, 4500\, Schweiz
X-APPLE-STRUCTURED-LOCATION;VALUE=URI;X-ADDRESS=Untere Steingrubenstrasse 1
 \, Solothurn\, Schweiz\, 4500\, Schweiz;X-APPLE-RADIUS=100;X-TITLE=Grosser
  Konzertsaal Solothurn:geo:0,0
END:VEVENT
BEGIN:VTIMEZONE
TZID:Europe/Zurich
X-LIC-LOCATION:Europe/Zurich
BEGIN:STANDARD
DTSTART:20241027T020000
TZOFFSETFROM:+0200
TZOFFSETTO:+0100
TZNAME:CET
END:STANDARD
END:VTIMEZONE
END:VCALENDAR