BEGIN:VCALENDAR
VERSION:2.0
PRODID:-//wp-events-plugin.com//7.2.3.1//EN
TZID:Europe/Zurich
X-WR-TIMEZONE:Europe/Zurich
BEGIN:VEVENT
UID:110@stadtorchester-solothurn.ch
DTSTART;TZID=Europe/Zurich:20260314T140000
DTEND;TZID=Europe/Zurich:20260314T140000
DTSTAMP:20260111T173112Z
URL:https://stadtorchester-solothurn.ch/events/kinderkonzert-elsa-und-die-
 waldfee/
SUMMARY:Kinderkonzert: Elsa und die Waldfee
DESCRIPTION:Kinderkonzert: Musik von Igor Strawinsky\, Pulcinella Suite mit
  Brigitte Hirsig\, Erzählerin\;\nLeitung: Harald Siegel
ATTACH;FMTTYPE=image/jpeg:https://stadtorchester-solothurn.ch/wp-content/u
 ploads/2025/11/Web_Kiko.jpg
CATEGORIES:Kinderkonzert
LOCATION:Grosser Konzertsaal Solothurn\, Untere Steingrubenstrasse 1\, Solo
 thurn\, Schweiz\, 4500\, Schweiz
X-APPLE-STRUCTURED-LOCATION;VALUE=URI;X-ADDRESS=Untere Steingrubenstrasse 1
 \, Solothurn\, Schweiz\, 4500\, Schweiz;X-APPLE-RADIUS=100;X-TITLE=Grosser
  Konzertsaal Solothurn:geo:0,0
END:VEVENT
BEGIN:VTIMEZONE
TZID:Europe/Zurich
X-LIC-LOCATION:Europe/Zurich
BEGIN:STANDARD
DTSTART:20251026T020000
TZOFFSETFROM:+0200
TZOFFSETTO:+0100
TZNAME:CET
END:STANDARD
END:VTIMEZONE
END:VCALENDAR