BEGIN:VCALENDAR
VERSION:2.0
PRODID:-//wp-events-plugin.com//7.2.3.1//EN
TZID:Europe/Zurich
X-WR-TIMEZONE:Europe/Zurich
BEGIN:VEVENT
UID:111@stadtorchester-solothurn.ch
DTSTART;TZID=Europe/Zurich:20260626T193000
DTEND;TZID=Europe/Zurich:20260626T193000
DTSTAMP:20260408T183851Z
URL:https://stadtorchester-solothurn.ch/events/filmmusik-ii/
SUMMARY:Filmmusik II
DESCRIPTION:Filmmusik von Richard Strauss\, James Horner\, Jake Parker\, Kl
 aus Badelt\, John Williams\, Henry Mancini\, Hans Zimmer\, Howard Shore\, 
 Lalo Schifrin\, Koji Kondo\, Ray Parker Jr.\;\nLeitung: Harald Siegel
ATTACH;FMTTYPE=image/jpeg:https://stadtorchester-solothurn.ch/wp-content/u
 ploads/2025/11/Web_Juni.jpg
CATEGORIES:3. Abonnementskonzert
LOCATION:Grosser Konzertsaal Solothurn\, Untere Steingrubenstrasse 1\, Solo
 thurn\, Schweiz\, 4500\, Schweiz
X-APPLE-STRUCTURED-LOCATION;VALUE=URI;X-ADDRESS=Untere Steingrubenstrasse 1
 \, Solothurn\, Schweiz\, 4500\, Schweiz;X-APPLE-RADIUS=100;X-TITLE=Grosser
  Konzertsaal Solothurn:geo:0,0
END:VEVENT
BEGIN:VTIMEZONE
TZID:Europe/Zurich
X-LIC-LOCATION:Europe/Zurich
BEGIN:DAYLIGHT
DTSTART:20260329T030000
TZOFFSETFROM:+0100
TZOFFSETTO:+0200
TZNAME:CEST
END:DAYLIGHT
END:VTIMEZONE
END:VCALENDAR