BEGIN:VCALENDAR
VERSION:2.0
PRODID:-//wp-events-plugin.com//7.2.3.1//EN
TZID:Europe/Zurich
X-WR-TIMEZONE:Europe/Zurich
BEGIN:VEVENT
UID:112@stadtorchester-solothurn.ch
DTSTART;TZID=Europe/Zurich:20261120T193000
DTEND;TZID=Europe/Zurich:20261120T193000
DTSTAMP:20260311T144714Z
URL:https://stadtorchester-solothurn.ch/events/beethoven-sinfonie-nr-4-dvo
 rak-tschechische-suite-und-schumann-konzertstueck-fuer-4-hoerner/
SUMMARY:Beethoven Sinfonie Nr. 4\, Dvořák Tschechische Suite und Schumann
  Konzertstück für 4 Hörner
DESCRIPTION:Ludwig van Beethoven Sinfonie Nr. 4 in B-Dur Op.60\, Antonín D
 vořák Tschechische Suite\, Robert Schumann Konzertstück für 4 Hörner 
 F-Dur Op. 86 mit Jörg Brückner\, Olivier Darbellay\, Andreas Kamber\, Si
 mon Kissling\;\nLeitung:  Harald Siegel\n
ATTACH;FMTTYPE=image/jpeg:https://stadtorchester-solothurn.ch/wp-content/u
 ploads/2025/11/Web_November.jpg
CATEGORIES:4. Abonnementskonzert
LOCATION:Grosser Konzertsaal Solothurn\, Untere Steingrubenstrasse 1\, Solo
 thurn\, Schweiz\, 4500\, Schweiz
X-APPLE-STRUCTURED-LOCATION;VALUE=URI;X-ADDRESS=Untere Steingrubenstrasse 1
 \, Solothurn\, Schweiz\, 4500\, Schweiz;X-APPLE-RADIUS=100;X-TITLE=Grosser
  Konzertsaal Solothurn:geo:0,0
END:VEVENT
BEGIN:VTIMEZONE
TZID:Europe/Zurich
X-LIC-LOCATION:Europe/Zurich
BEGIN:STANDARD
DTSTART:20261025T020000
TZOFFSETFROM:+0200
TZOFFSETTO:+0100
TZNAME:CET
END:STANDARD
END:VTIMEZONE
END:VCALENDAR